Package: AssessORF Version: 1.26.0 Command: /Library/Frameworks/R.framework/Resources/bin/R CMD build --keep-empty-dirs --no-resave-data AssessORF StartedAt: 2025-10-13 19:14:04 -0400 (Mon, 13 Oct 2025) EndedAt: 2025-10-13 19:14:55 -0400 (Mon, 13 Oct 2025) EllapsedTime: 51.4 seconds RetCode: 0 Status: OK PackageFile: AssessORF_1.26.0.tar.gz PackageFileSize: 4.703 MiB