Package: AssessORF Version: 1.26.0 Command: rm -rf AssessORF.buildbin-libdir && mkdir AssessORF.buildbin-libdir && /Users/biocbuild/BBS/utils/build-universal.sh AssessORF_1.26.0.tar.gz /Library/Frameworks/R.framework/Resources/bin/R AssessORF.buildbin-libdir StartedAt: 2025-10-15 17:26:23 -0400 (Wed, 15 Oct 2025) EndedAt: 2025-10-15 17:26:42 -0400 (Wed, 15 Oct 2025) EllapsedTime: 18.2 seconds RetCode: 0 Status: OK PackageFile: AssessORF_1.26.0.tgz PackageFileSize: 4.798 MiB