Package: ArrayExpress Version: 1.68.0 Command: /home/biocbuild/bbs-3.21-bioc/R/bin/R CMD build --keep-empty-dirs --no-resave-data ArrayExpress StartedAt: 2025-10-15 16:11:34 -0400 (Wed, 15 Oct 2025) EndedAt: 2025-10-15 16:13:49 -0400 (Wed, 15 Oct 2025) EllapsedTime: 135.1 seconds RetCode: 0 Status: OK PackageFile: ArrayExpress_1.68.0.tar.gz PackageFileSize: 136.9 KiB