Package: ArrayExpress Version: 1.67.1 Command: /Library/Frameworks/R.framework/Resources/bin/R CMD check --install=check:ArrayExpress.install-out.txt --library=/Library/Frameworks/R.framework/Resources/library --no-vignettes --timings ArrayExpress_1.67.1.tar.gz StartedAt: 2025-04-08 18:05:49 -0400 (Tue, 08 Apr 2025) EndedAt: 2025-04-08 18:08:31 -0400 (Tue, 08 Apr 2025) EllapsedTime: 162.0 seconds RetCode: 0 Status: OK CheckDir: ArrayExpress.Rcheck Warnings: 0