Package: ArrayExpress Version: 1.68.0 Command: /Library/Frameworks/R.framework/Resources/bin/R CMD build --keep-empty-dirs --no-resave-data ArrayExpress StartedAt: 2025-10-13 19:07:53 -0400 (Mon, 13 Oct 2025) EndedAt: 2025-10-13 19:09:50 -0400 (Mon, 13 Oct 2025) EllapsedTime: 117.5 seconds RetCode: 0 Status: OK PackageFile: ArrayExpress_1.68.0.tar.gz PackageFileSize: 136.7 KiB