Package: AnnotationHub Version: 3.16.1 Command: E:\biocbuild\bbs-3.21-bioc\R\bin\R.exe CMD check --no-multiarch --install=check:AnnotationHub.install-out.txt --library=E:\biocbuild\bbs-3.21-bioc\R\library --no-vignettes --timings AnnotationHub_3.16.1.tar.gz StartedAt: 2025-08-14 23:25:24 -0400 (Thu, 14 Aug 2025) EndedAt: 2025-08-14 23:30:31 -0400 (Thu, 14 Aug 2025) EllapsedTime: 307.5 seconds RetCode: 0 Status: OK CheckDir: AnnotationHub.Rcheck Warnings: 0