Package: AnnotationHub Version: 3.16.1 Command: /home/biocbuild/bbs-3.21-bioc/R/bin/R CMD check --install=check:AnnotationHub.install-out.txt --library=/home/biocbuild/bbs-3.21-bioc/R/site-library --timings AnnotationHub_3.16.1.tar.gz StartedAt: 2025-10-15 20:46:58 -0400 (Wed, 15 Oct 2025) EndedAt: 2025-10-15 20:53:15 -0400 (Wed, 15 Oct 2025) EllapsedTime: 376.8 seconds RetCode: 0 Status: OK CheckDir: AnnotationHub.Rcheck Warnings: 0