Package: AnnotationHub Version: 3.16.1 Command: /home/biocbuild/bbs-3.21-bioc/R/bin/R CMD build --keep-empty-dirs --no-resave-data AnnotationHub StartedAt: 2025-10-15 16:10:37 -0400 (Wed, 15 Oct 2025) EndedAt: 2025-10-15 16:12:46 -0400 (Wed, 15 Oct 2025) EllapsedTime: 129.2 seconds RetCode: 0 Status: OK PackageFile: AnnotationHub_3.16.1.tar.gz PackageFileSize: 976.2 KiB