Package: AnnotationHub Version: 3.16.1 Command: /Library/Frameworks/R.framework/Resources/bin/R CMD INSTALL AnnotationHub StartedAt: 2025-10-13 15:46:50 -0400 (Mon, 13 Oct 2025) EndedAt: 2025-10-13 15:47:28 -0400 (Mon, 13 Oct 2025) EllapsedTime: 38.6 seconds RetCode: 0 Status: OK