Package: AnnotationHub Version: 3.16.1 Command: /Library/Frameworks/R.framework/Resources/bin/R CMD check --install=check:AnnotationHub.install-out.txt --library=/Library/Frameworks/R.framework/Resources/library --no-vignettes --timings AnnotationHub_3.16.1.tar.gz StartedAt: 2025-10-14 00:01:35 -0400 (Tue, 14 Oct 2025) EndedAt: 2025-10-14 00:09:37 -0400 (Tue, 14 Oct 2025) EllapsedTime: 481.9 seconds RetCode: 0 Status: OK CheckDir: AnnotationHub.Rcheck Warnings: 0