Package: AnnotationHub Version: 3.16.0 Command: /Library/Frameworks/R.framework/Resources/bin/R CMD check --install=check:AnnotationHub.install-out.txt --library=/Library/Frameworks/R.framework/Resources/library --no-vignettes --timings AnnotationHub_3.16.0.tar.gz StartedAt: 2025-04-21 19:04:13 -0400 (Mon, 21 Apr 2025) EndedAt: 2025-04-21 19:09:12 -0400 (Mon, 21 Apr 2025) EllapsedTime: 298.8 seconds RetCode: 0 Status: OK CheckDir: AnnotationHub.Rcheck Warnings: 0