Package: AnnotationHub Version: 3.16.1 Command: /home/biocbuild/R/R/bin/R CMD check --install=check:AnnotationHub.install-out.txt --library=/home/biocbuild/R/R/site-library --no-vignettes --timings AnnotationHub_3.16.1.tar.gz StartedAt: 2025-10-14 06:12:09 -0000 (Tue, 14 Oct 2025) EndedAt: 2025-10-14 06:55:03 -0000 (Tue, 14 Oct 2025) EllapsedTime: 2573.8 seconds RetCode: None Status: TIMEOUT CheckDir: AnnotationHub.Rcheck Warnings: NA