Package: AnnotationHub Version: 3.16.0 Command: rm -rf AnnotationHub.buildbin-libdir && mkdir AnnotationHub.buildbin-libdir && /Users/biocbuild/BBS/utils/build-universal.sh AnnotationHub_3.16.0.tar.gz /Library/Frameworks/R.framework/Resources/bin/R AnnotationHub.buildbin-libdir StartedAt: 2025-04-21 22:26:08 -0400 (Mon, 21 Apr 2025) EndedAt: 2025-04-21 22:26:16 -0400 (Mon, 21 Apr 2025) EllapsedTime: 8.2 seconds RetCode: 0 Status: OK PackageFile: AnnotationHub_3.16.0.tgz PackageFileSize: 1.234 MiB