Package: AnnotationHub Version: 3.16.1 Command: /Library/Frameworks/R.framework/Resources/bin/R CMD INSTALL AnnotationHub StartedAt: 2025-10-13 15:47:01 -0400 (Mon, 13 Oct 2025) EndedAt: 2025-10-13 15:47:20 -0400 (Mon, 13 Oct 2025) EllapsedTime: 19.8 seconds RetCode: 0 Status: OK