Package: AnnotationHub Version: 3.16.1 Command: /Library/Frameworks/R.framework/Resources/bin/R CMD build --keep-empty-dirs --no-resave-data AnnotationHub StartedAt: 2025-10-13 19:02:09 -0400 (Mon, 13 Oct 2025) EndedAt: 2025-10-13 19:04:59 -0400 (Mon, 13 Oct 2025) EllapsedTime: 169.9 seconds RetCode: 0 Status: OK PackageFile: AnnotationHub_3.16.1.tar.gz PackageFileSize: 976.3 KiB