Package: AnnotationHub Version: 3.16.1 Command: rm -rf AnnotationHub.buildbin-libdir && mkdir AnnotationHub.buildbin-libdir && /Users/biocbuild/BBS/utils/build-universal.sh AnnotationHub_3.16.1.tar.gz /Library/Frameworks/R.framework/Resources/bin/R AnnotationHub.buildbin-libdir StartedAt: 2025-10-15 17:24:16 -0400 (Wed, 15 Oct 2025) EndedAt: 2025-10-15 17:24:40 -0400 (Wed, 15 Oct 2025) EllapsedTime: 23.6 seconds RetCode: 0 Status: OK PackageFile: AnnotationHub_3.16.1.tgz PackageFileSize: 1.235 MiB