Package: AnnotationForge Version: 1.50.0 Command: /Library/Frameworks/R.framework/Resources/bin/R CMD check --install=check:AnnotationForge.install-out.txt --library=/Library/Frameworks/R.framework/Resources/library --no-vignettes --timings AnnotationForge_1.50.0.tar.gz StartedAt: 2025-09-30 00:01:46 -0400 (Tue, 30 Sep 2025) EndedAt: 2025-09-30 00:05:53 -0400 (Tue, 30 Sep 2025) EllapsedTime: 247.1 seconds RetCode: 0 Status: OK CheckDir: AnnotationForge.Rcheck Warnings: 0