Package: AneuFinder Version: 1.36.0 Command: /Library/Frameworks/R.framework/Resources/bin/R CMD INSTALL AneuFinder StartedAt: 2025-10-13 15:47:15 -0400 (Mon, 13 Oct 2025) EndedAt: 2025-10-13 15:47:20 -0400 (Mon, 13 Oct 2025) EllapsedTime: 4.9 seconds RetCode: 1 Status: ERROR