Package: Anaquin Version: 2.32.0 Command: chmod a+r Anaquin -R && E:\biocbuild\bbs-3.21-bioc\R\bin\R.exe CMD build --keep-empty-dirs --no-resave-data Anaquin StartedAt: 2025-08-14 17:19:15 -0400 (Thu, 14 Aug 2025) EndedAt: 2025-08-14 17:20:06 -0400 (Thu, 14 Aug 2025) EllapsedTime: 50.7 seconds RetCode: 0 Status: OK PackageFile: Anaquin_2.32.0.tar.gz PackageFileSize: 451.5 KiB