Package: Anaquin Version: 2.32.0 Command: /home/biocbuild/bbs-3.21-bioc/R/bin/R CMD INSTALL Anaquin StartedAt: 2025-10-15 15:21:33 -0400 (Wed, 15 Oct 2025) EndedAt: 2025-10-15 15:21:39 -0400 (Wed, 15 Oct 2025) EllapsedTime: 5.8 seconds RetCode: 0 Status: OK