Package: Anaquin Version: 2.32.0 Command: /home/biocbuild/bbs-3.21-bioc/R/bin/R CMD check --install=check:Anaquin.install-out.txt --library=/home/biocbuild/bbs-3.21-bioc/R/site-library --timings Anaquin_2.32.0.tar.gz StartedAt: 2025-10-15 20:45:40 -0400 (Wed, 15 Oct 2025) EndedAt: 2025-10-15 20:47:02 -0400 (Wed, 15 Oct 2025) EllapsedTime: 82.1 seconds RetCode: 0 Status: OK CheckDir: Anaquin.Rcheck Warnings: 0