Package: Anaquin Version: 2.32.0 Command: /Library/Frameworks/R.framework/Resources/bin/R CMD check --install=check:Anaquin.install-out.txt --library=/Library/Frameworks/R.framework/Resources/library --no-vignettes --timings Anaquin_2.32.0.tar.gz StartedAt: 2025-10-13 23:57:51 -0400 (Mon, 13 Oct 2025) EndedAt: 2025-10-14 00:00:18 -0400 (Tue, 14 Oct 2025) EllapsedTime: 147.6 seconds RetCode: 0 Status: OK CheckDir: Anaquin.Rcheck Warnings: 0