Package: Anaquin Version: 2.32.0 Command: /Library/Frameworks/R.framework/Resources/bin/R CMD INSTALL Anaquin StartedAt: 2025-04-21 15:20:38 -0400 (Mon, 21 Apr 2025) EndedAt: 2025-04-21 15:20:45 -0400 (Mon, 21 Apr 2025) EllapsedTime: 7.2 seconds RetCode: 0 Status: OK