Package: Anaquin Version: 2.32.0 Command: /home/biocbuild/R/R/bin/R CMD INSTALL Anaquin StartedAt: 2025-10-13 20:35:16 -0000 (Mon, 13 Oct 2025) EndedAt: 2025-10-13 20:35:24 -0000 (Mon, 13 Oct 2025) EllapsedTime: 8.0 seconds RetCode: 0 Status: OK