Package: Anaquin Version: 2.32.0 Command: /home/biocbuild/R/R/bin/R CMD build --keep-empty-dirs --no-resave-data Anaquin StartedAt: 2025-10-13 22:32:51 -0000 (Mon, 13 Oct 2025) EndedAt: 2025-10-13 22:33:25 -0000 (Mon, 13 Oct 2025) EllapsedTime: 34.0 seconds RetCode: 0 Status: OK PackageFile: Anaquin_2.32.0.tar.gz PackageFileSize: 420.7 KiB