Package: Anaquin Version: 2.32.0 Command: /Library/Frameworks/R.framework/Resources/bin/R CMD INSTALL Anaquin StartedAt: 2025-10-13 16:26:07 -0400 (Mon, 13 Oct 2025) EndedAt: 2025-10-13 16:26:14 -0400 (Mon, 13 Oct 2025) EllapsedTime: 7.0 seconds RetCode: 0 Status: OK