Package: Anaquin Version: 2.32.0 Command: /Library/Frameworks/R.framework/Resources/bin/R CMD check --install=check:Anaquin.install-out.txt --library=/Library/Frameworks/R.framework/Resources/library --no-vignettes --timings Anaquin_2.32.0.tar.gz StartedAt: 2025-10-14 12:40:43 -0400 (Tue, 14 Oct 2025) EndedAt: 2025-10-14 12:42:06 -0400 (Tue, 14 Oct 2025) EllapsedTime: 83.1 seconds RetCode: 0 Status: OK CheckDir: Anaquin.Rcheck Warnings: 0