Package: AnVILPublish Version: 1.18.0 Command: /Library/Frameworks/R.framework/Resources/bin/R CMD INSTALL AnVILPublish StartedAt: 2025-09-29 15:31:25 -0400 (Mon, 29 Sep 2025) EndedAt: 2025-09-29 15:31:31 -0400 (Mon, 29 Sep 2025) EllapsedTime: 5.8 seconds RetCode: 0 Status: OK