Package: AnVILPublish Version: 1.18.0 Command: rm -rf AnVILPublish.buildbin-libdir && mkdir AnVILPublish.buildbin-libdir && /Users/biocbuild/BBS/utils/build-universal.sh AnVILPublish_1.18.0.tar.gz /Library/Frameworks/R.framework/Resources/bin/R AnVILPublish.buildbin-libdir StartedAt: 2025-10-01 17:23:25 -0400 (Wed, 01 Oct 2025) EndedAt: 2025-10-01 17:23:33 -0400 (Wed, 01 Oct 2025) EllapsedTime: 8.0 seconds RetCode: 0 Status: OK PackageFile: AnVILPublish_1.18.0.tgz PackageFileSize: 259 KiB