Package: AnVILGCP Version: 1.2.0 Command: chmod a+r AnVILGCP -R && E:\biocbuild\bbs-3.21-bioc\R\bin\R.exe CMD build --keep-empty-dirs --no-resave-data AnVILGCP StartedAt: 2025-08-14 17:22:00 -0400 (Thu, 14 Aug 2025) EndedAt: 2025-08-14 17:22:44 -0400 (Thu, 14 Aug 2025) EllapsedTime: 43.5 seconds RetCode: 0 Status: OK PackageFile: AnVILGCP_1.2.0.tar.gz PackageFileSize: 416.7 KiB