Package: AnVILGCP Version: 1.2.0 Command: /home/biocbuild/bbs-3.21-bioc/R/bin/R CMD check --install=check:AnVILGCP.install-out.txt --library=/home/biocbuild/bbs-3.21-bioc/R/site-library --timings AnVILGCP_1.2.0.tar.gz StartedAt: 2025-10-15 20:48:49 -0400 (Wed, 15 Oct 2025) EndedAt: 2025-10-15 20:49:23 -0400 (Wed, 15 Oct 2025) EllapsedTime: 34.1 seconds RetCode: 0 Status: OK CheckDir: AnVILGCP.Rcheck Warnings: 0