Package: AnVILGCP Version: 1.2.0 Command: /home/biocbuild/bbs-3.21-bioc/R/bin/R CMD build --keep-empty-dirs --no-resave-data AnVILGCP StartedAt: 2025-10-15 16:11:22 -0400 (Wed, 15 Oct 2025) EndedAt: 2025-10-15 16:11:30 -0400 (Wed, 15 Oct 2025) EllapsedTime: 8.0 seconds RetCode: 0 Status: OK PackageFile: AnVILGCP_1.2.0.tar.gz PackageFileSize: 416.6 KiB