Package: AnVILGCP Version: 1.2.0 Command: /home/biocbuild/R/R/bin/R CMD build --keep-empty-dirs --no-resave-data AnVILGCP StartedAt: 2025-10-13 22:35:04 -0000 (Mon, 13 Oct 2025) EndedAt: 2025-10-13 22:35:16 -0000 (Mon, 13 Oct 2025) EllapsedTime: 12.0 seconds RetCode: 0 Status: OK PackageFile: AnVILGCP_1.2.0.tar.gz PackageFileSize: 442 KiB