Package: AnVILGCP Version: 1.2.0 Command: rm -rf AnVILGCP.buildbin-libdir && mkdir AnVILGCP.buildbin-libdir && /Users/biocbuild/BBS/utils/build-universal.sh AnVILGCP_1.2.0.tar.gz /Library/Frameworks/R.framework/Resources/bin/R AnVILGCP.buildbin-libdir StartedAt: 2025-04-21 22:26:15 -0400 (Mon, 21 Apr 2025) EndedAt: 2025-04-21 22:26:18 -0400 (Mon, 21 Apr 2025) EllapsedTime: 3.1 seconds RetCode: 0 Status: OK PackageFile: AnVILGCP_1.2.0.tgz PackageFileSize: 469.7 KiB