Package: AnVILBilling Version: 1.18.0 Command: /Library/Frameworks/R.framework/Resources/bin/R CMD build --keep-empty-dirs --no-resave-data AnVILBilling StartedAt: 2025-04-21 15:56:52 -0400 (Mon, 21 Apr 2025) EndedAt: 2025-04-21 15:57:10 -0400 (Mon, 21 Apr 2025) EllapsedTime: 18.3 seconds RetCode: 0 Status: OK PackageFile: AnVILBilling_1.18.0.tar.gz PackageFileSize: 1.006 MiB