Package: AnVILBilling Version: 1.18.0 Command: /Library/Frameworks/R.framework/Resources/bin/R CMD build --keep-empty-dirs --no-resave-data AnVILBilling StartedAt: 2025-10-13 19:05:41 -0400 (Mon, 13 Oct 2025) EndedAt: 2025-10-13 19:06:00 -0400 (Mon, 13 Oct 2025) EllapsedTime: 18.2 seconds RetCode: 0 Status: OK PackageFile: AnVILBilling_1.18.0.tar.gz PackageFileSize: 1.006 MiB