Package: AnVILBilling Version: 1.18.0 Maintainer: Vince Carey MaintainerEmail: stvjc at channing.harvard.edu git_url: https://git.bioconductor.org/packages/AnVILBilling git_branch: RELEASE_3_21 git_last_commit: 4852ff7 git_last_commit_date: 2025-04-15 12:13:19 -0400 (Tue, 15 Apr 2025)