Package: AnVILAz Version: 1.2.0 Command: /Library/Frameworks/R.framework/Resources/bin/R CMD check --install=check:AnVILAz.install-out.txt --library=/Library/Frameworks/R.framework/Resources/library --no-vignettes --timings AnVILAz_1.2.0.tar.gz StartedAt: 2025-10-14 00:03:21 -0400 (Tue, 14 Oct 2025) EndedAt: 2025-10-14 00:04:43 -0400 (Tue, 14 Oct 2025) EllapsedTime: 82.0 seconds RetCode: 0 Status: OK CheckDir: AnVILAz.Rcheck Warnings: 0