Package: AnVILAz Version: 1.2.0 Command: rm -rf AnVILAz.buildbin-libdir && mkdir AnVILAz.buildbin-libdir && /Users/biocbuild/BBS/utils/build-universal.sh AnVILAz_1.2.0.tar.gz /Library/Frameworks/R.framework/Resources/bin/R AnVILAz.buildbin-libdir StartedAt: 2025-10-14 12:50:21 -0400 (Tue, 14 Oct 2025) EndedAt: 2025-10-14 12:50:31 -0400 (Tue, 14 Oct 2025) EllapsedTime: 10.4 seconds RetCode: 0 Status: OK PackageFile: AnVILAz_1.2.0.tgz PackageFileSize: 830.7 KiB