Package: AnVILAz Version: 1.2.0 Command: /home/biocbuild/R/R/bin/R CMD INSTALL AnVILAz StartedAt: 2025-10-13 20:20:16 -0000 (Mon, 13 Oct 2025) EndedAt: 2025-10-13 20:20:21 -0000 (Mon, 13 Oct 2025) EllapsedTime: 5.2 seconds RetCode: 0 Status: OK