Package: AnVILAz Version: 1.2.0 Maintainer: Marcel Ramos MaintainerEmail: marcel.ramos at sph.cuny.edu git_url: https://git.bioconductor.org/packages/AnVILAz git_branch: RELEASE_3_21 git_last_commit: 1c784c0 git_last_commit_date: 2025-04-15 13:37:56 -0400 (Tue, 15 Apr 2025)