Package: AnVIL Version: 1.20.4 Command: /Library/Frameworks/R.framework/Resources/bin/R CMD build --keep-empty-dirs --no-resave-data AnVIL StartedAt: 2025-10-09 17:02:26 -0400 (Thu, 09 Oct 2025) EndedAt: 2025-10-09 17:03:00 -0400 (Thu, 09 Oct 2025) EllapsedTime: 33.7 seconds RetCode: 0 Status: OK PackageFile: AnVIL_1.20.4.tar.gz PackageFileSize: 1.194 MiB