Package: AnVIL Version: 1.20.0 Command: /Library/Frameworks/R.framework/Resources/bin/R CMD build --keep-empty-dirs --no-resave-data AnVIL StartedAt: 2025-04-21 15:37:53 -0400 (Mon, 21 Apr 2025) EndedAt: 2025-04-21 15:38:01 -0400 (Mon, 21 Apr 2025) EllapsedTime: 8.1 seconds RetCode: 0 Status: OK PackageFile: AnVIL_1.20.0.tar.gz PackageFileSize: 1.191 MiB