Package: AnVIL Version: 1.20.4 Command: /Library/Frameworks/R.framework/Resources/bin/R CMD INSTALL AnVIL StartedAt: 2025-09-29 15:29:06 -0400 (Mon, 29 Sep 2025) EndedAt: 2025-09-29 15:29:13 -0400 (Mon, 29 Sep 2025) EllapsedTime: 6.9 seconds RetCode: 0 Status: OK