Package: AnVIL Version: 1.20.4 Command: /Library/Frameworks/R.framework/Resources/bin/R CMD build --keep-empty-dirs --no-resave-data AnVIL StartedAt: 2025-09-29 19:11:12 -0400 (Mon, 29 Sep 2025) EndedAt: 2025-09-29 19:11:32 -0400 (Mon, 29 Sep 2025) EllapsedTime: 20.5 seconds RetCode: 0 Status: OK PackageFile: AnVIL_1.20.4.tar.gz PackageFileSize: 1.195 MiB