Package: AnVIL Version: 1.20.4 Command: rm -rf AnVIL.buildbin-libdir && mkdir AnVIL.buildbin-libdir && /Users/biocbuild/BBS/utils/build-universal.sh AnVIL_1.20.4.tar.gz /Library/Frameworks/R.framework/Resources/bin/R AnVIL.buildbin-libdir StartedAt: 2025-10-01 17:23:14 -0400 (Wed, 01 Oct 2025) EndedAt: 2025-10-01 17:23:23 -0400 (Wed, 01 Oct 2025) EllapsedTime: 9.0 seconds RetCode: 0 Status: OK PackageFile: AnVIL_1.20.4.tgz PackageFileSize: 1.17 MiB