Package: AgiMicroRna Version: 2.58.0 Command: /home/biocbuild/bbs-3.21-bioc/R/bin/R CMD INSTALL AgiMicroRna StartedAt: 2025-10-15 15:48:16 -0400 (Wed, 15 Oct 2025) EndedAt: 2025-10-15 15:49:22 -0400 (Wed, 15 Oct 2025) EllapsedTime: 66.8 seconds RetCode: 0 Status: OK