Package: AgiMicroRna Version: 2.58.0 Command: /Library/Frameworks/R.framework/Resources/bin/R CMD INSTALL AgiMicroRna StartedAt: 2025-10-13 17:49:05 -0400 (Mon, 13 Oct 2025) EndedAt: 2025-10-13 17:50:21 -0400 (Mon, 13 Oct 2025) EllapsedTime: 76.4 seconds RetCode: 0 Status: OK