Package: AgiMicroRna Version: 2.58.0 Command: rm -rf AgiMicroRna.buildbin-libdir && mkdir AgiMicroRna.buildbin-libdir && /Users/biocbuild/BBS/utils/build-universal.sh AgiMicroRna_2.58.0.tar.gz /Library/Frameworks/R.framework/Resources/bin/R AgiMicroRna.buildbin-libdir StartedAt: 2025-10-15 17:20:31 -0400 (Wed, 15 Oct 2025) EndedAt: 2025-10-15 17:21:58 -0400 (Wed, 15 Oct 2025) EllapsedTime: 86.1 seconds RetCode: 0 Status: OK PackageFile: AgiMicroRna_2.58.0.tgz PackageFileSize: 3.526 MiB