Package: AffyRNADegradation Version: 1.54.0 Command: /Library/Frameworks/R.framework/Resources/bin/R CMD INSTALL AffyRNADegradation StartedAt: 2025-10-13 15:35:15 -0400 (Mon, 13 Oct 2025) EndedAt: 2025-10-13 15:35:19 -0400 (Mon, 13 Oct 2025) EllapsedTime: 4.2 seconds RetCode: 0 Status: OK